BEGIN:VCALENDAR
VERSION:2.0
PRODID:-//Contratero//ES
CALSCALE:GREGORIAN
METHOD:PUBLISH
BEGIN:VEVENT
UID:13621 PASS@contratero.es
DTSTAMP:20260422T132953Z
DTSTART:20211223T235959
DTEND:20211224T005959
SUMMARY:Cierre: Soporte y Mantenimiento del programa SAP para Cana
DESCRIPTION:Soporte y Mantenimiento del programa SAP para Canal Extremadura\\n\\nOrganismo: Dirección General de la Corporación Extremeña de Medios Audiovisuales\\n\\nVer en Contratero: https://contratero.es/contracts/13621 PASS
URL:https://contratero.es/contracts/13621 PASS
STATUS:CONFIRMED
BEGIN:VALARM
TRIGGER:-P1D
ACTION:DISPLAY
DESCRIPTION:Recordatorio: Soporte y Mantenimiento del pr
END:VALARM
END:VEVENT
END:VCALENDAR